BEGIN:VCALENDAR
VERSION:2.0
PRODID:-//Stichting SeniorWeb Mierlo - ECPv6.15.15//NONSGML v1.0//EN
CALSCALE:GREGORIAN
METHOD:PUBLISH
X-ORIGINAL-URL:https://www.seniorwebmierlo.nl
X-WR-CALDESC:Evenementen voor Stichting SeniorWeb Mierlo
REFRESH-INTERVAL;VALUE=DURATION:PT1H
X-Robots-Tag:noindex
X-PUBLISHED-TTL:PT1H
BEGIN:VTIMEZONE
TZID:Europe/Amsterdam
BEGIN:DAYLIGHT
TZOFFSETFROM:+0100
TZOFFSETTO:+0200
TZNAME:CEST
DTSTART:20250330T010000
END:DAYLIGHT
BEGIN:STANDARD
TZOFFSETFROM:+0200
TZOFFSETTO:+0100
TZNAME:CET
DTSTART:20251026T010000
END:STANDARD
BEGIN:DAYLIGHT
TZOFFSETFROM:+0100
TZOFFSETTO:+0200
TZNAME:CEST
DTSTART:20260329T010000
END:DAYLIGHT
BEGIN:STANDARD
TZOFFSETFROM:+0200
TZOFFSETTO:+0100
TZNAME:CET
DTSTART:20261025T010000
END:STANDARD
BEGIN:DAYLIGHT
TZOFFSETFROM:+0100
TZOFFSETTO:+0200
TZNAME:CEST
DTSTART:20270328T010000
END:DAYLIGHT
BEGIN:STANDARD
TZOFFSETFROM:+0200
TZOFFSETTO:+0100
TZNAME:CET
DTSTART:20271031T010000
END:STANDARD
END:VTIMEZONE
BEGIN:VEVENT
DTSTART;TZID=Europe/Amsterdam:20260326T140000
DTEND;TZID=Europe/Amsterdam:20260326T160000
DTSTAMP:20260421T041654
CREATED:20240906T142708Z
LAST-MODIFIED:20251219T113332Z
UID:14796-1774533600-1774540800@www.seniorwebmierlo.nl
SUMMARY:AndroidClub - Derde bijeenkomst
DESCRIPTION:Uitgangspunten Android club \nDe versie van Android op het apparaat (smartphone of tablet) is 10.0 of hoger.\nTijdens de eerste bijeenkomst wordt geïnventariseerd welke onderwerpen op basis van de interesse van de deelnemers aan de orde zullen komen. Hiervan wordt de volgorde van behandeling vastgesteld.\nDoor de docent wordt per bijeenkomst uitleg gegeven over een onderwerp en daarna wordt dit zelf met begeleiding op het eigen apparaat uitgevoerd.\nIedereen krijgt volop de tijd om te oefenen. Er wordt pas een ander onderwerp behandeld als men klaar is met oefenen. Er is ook volop ruimte voor het stellen van vragen. Deze worden zo veel mogelijk tijdens de bijeenkomst beantwoord of in een volgende bijeenkomst.\nIedereen wordt aangemeld in de Android Club SWM WhatsApp groep. Hier kan men allerlei meldingen plaatsen met betrekking tot de Android club. Dit is het forum voor vragen en antwoorden over de onderwerpen die zijn of worden behandeld. \nAanmelden en informatie \nAanmelden of informatie krijgen kan door een mail te sturen naar swmadmi@gmail.com of door te bellen naar 0492-663609. \nTarieven
URL:https://www.seniorwebmierlo.nl/event/androidclub-derde-bijeenkomst/
LOCATION:D’n Intheek\, Dorpsstraat 113\, Mierlo
CATEGORIES:Android Club
ATTACH;FMTTYPE=image/jpeg:https://www.seniorwebmierlo.nl/wp-content/uploads/2019/09/Android_robot-1.jpg
END:VEVENT
BEGIN:VEVENT
DTSTART;TZID=Europe/Amsterdam:20260421T100000
DTEND;TZID=Europe/Amsterdam:20260421T120000
DTSTAMP:20260421T041654
CREATED:20250305T180452Z
LAST-MODIFIED:20251203T180720Z
UID:15299-1776765600-1776772800@www.seniorwebmierlo.nl
SUMMARY:ZomerBijeenkomst
DESCRIPTION:  \nDe ZomerBijeenkomsten worden tijdens de zomerperiode georganiseerd\, op de derde dinsdag van de maand van 10:00 tot 12:00 uur. \nJe kunt van 10:00 – 12:00 uur individueel werken op je eigen laptop\, Chromebook\, tablet of smartphone en indien nodig hulp vragen. Er is geen presentatie.\n\nDe entreeprijs is € 5\,- (graag gepast betalen) inclusief een kopje koffie of thee. Je hoeft geen lid van SeniorWeb of van de bibliotheek te zijn om deel te nemen. \nMeer info: swmadmi@gmail.com of bel: 0492-663609
URL:https://www.seniorwebmierlo.nl/event/zomerbijeenkomst/
LOCATION:D’n Intheek\, Dorpsstraat 113\, Mierlo
CATEGORIES:ZomerBijeenkomst
ATTACH;FMTTYPE=image/jpeg:https://www.seniorwebmierlo.nl/wp-content/uploads/2022/05/zomer-computer-cafe-header.jpg
END:VEVENT
BEGIN:VEVENT
DTSTART;TZID=Europe/Amsterdam:20260519T100000
DTEND;TZID=Europe/Amsterdam:20260519T120000
DTSTAMP:20260421T041654
CREATED:20250305T181457Z
LAST-MODIFIED:20251203T180821Z
UID:15309-1779184800-1779192000@www.seniorwebmierlo.nl
SUMMARY:ZomerBijeenkomst
DESCRIPTION:De ZomerBijeenkomsten worden tijdens de zomerperiode georganiseerd\, op de derde dinsdag van de maand van 10:00 tot 12:00 uur. \nJe kunt van 10:00 – 12:00 uur individueel werken op je eigen laptop\, Chromebook\, tablet of smartphone en indien nodig hulp vragen. Er is geen presentatie. \nDe entreeprijs is € 5\,- (graag gepast betalen) inclusief een kopje koffie of thee. Je hoeft geen lid van SeniorWeb of van de bibliotheek te zijn om deel te nemen. \nMeer info: swmadmi@gmail.com of bel: 0492-663609
URL:https://www.seniorwebmierlo.nl/event/zomerbijeenkomst-3/
LOCATION:D’n Intheek\, Dorpsstraat 113\, Mierlo
CATEGORIES:ZomerBijeenkomst
ATTACH;FMTTYPE=image/jpeg:https://www.seniorwebmierlo.nl/wp-content/uploads/2022/05/zomer-computer-cafe-header.jpg
END:VEVENT
BEGIN:VEVENT
DTSTART;TZID=Europe/Amsterdam:20260616T100000
DTEND;TZID=Europe/Amsterdam:20260616T120000
DTSTAMP:20260421T041654
CREATED:20250305T181229Z
LAST-MODIFIED:20251203T180916Z
UID:15305-1781604000-1781611200@www.seniorwebmierlo.nl
SUMMARY:ZomerBijeenkomst
DESCRIPTION:De ZomerBijeenkomsten worden tijdens de zomerperiode georganiseerd\, op de derde dinsdag van de maand van 10:00 tot 12:00 uur. \nJe kunt van 10:00 – 12:00 uur individueel werken op je eigen laptop\, Chromebook\, tablet of smartphone en indien nodig hulp vragen. Er is geen presentatie. \nDe entreeprijs is € 5\,- (graag gepast betalen) inclusief een kopje koffie of thee. Je hoeft geen lid van SeniorWeb of van de bibliotheek te zijn om deel te nemen. \nMeer info: swmadmi@gmail.com of bel: 0492-663609
URL:https://www.seniorwebmierlo.nl/event/15305/
LOCATION:D’n Intheek\, Dorpsstraat 113\, Mierlo
CATEGORIES:ZomerBijeenkomst
ATTACH;FMTTYPE=image/jpeg:https://www.seniorwebmierlo.nl/wp-content/uploads/2022/05/zomer-computer-cafe-header.jpg
END:VEVENT
BEGIN:VEVENT
DTSTART;TZID=Europe/Amsterdam:20260721T100000
DTEND;TZID=Europe/Amsterdam:20260721T120000
DTSTAMP:20260421T041654
CREATED:20251203T181228Z
LAST-MODIFIED:20251203T181711Z
UID:15544-1784628000-1784635200@www.seniorwebmierlo.nl
SUMMARY:Zomerbijeenkomst
DESCRIPTION:De ZomerBijeenkomsten worden tijdens de zomerperiode georganiseerd\, op de derde dinsdag van de maand van 10:00 tot 12:00 uur. \nJe kunt van 10:00 – 12:00 uur individueel werken op je eigen laptop\, Chromebook\, tablet of smartphone en indien nodig hulp vragen. Er is geen presentatie. \nDe entreeprijs is € 5\,- (graag gepast betalen) inclusief een kopje koffie of thee. Je hoeft geen lid van SeniorWeb of van de bibliotheek te zijn om deel te nemen. \nMeer info: swmadmi@gmail.com of bel: 0492-663609
URL:https://www.seniorwebmierlo.nl/event/zomerbijeenkomst-2/
LOCATION:D’n Intheek\, Dorpsstraat 113\, Mierlo
CATEGORIES:ZomerBijeenkomst
ATTACH;FMTTYPE=image/jpeg:https://www.seniorwebmierlo.nl/wp-content/uploads/2022/05/zomer-computer-cafe-header.jpg
END:VEVENT
BEGIN:VEVENT
DTSTART;TZID=Europe/Amsterdam:20260818T100000
DTEND;TZID=Europe/Amsterdam:20260818T120000
DTSTAMP:20260421T041654
CREATED:20251203T181350Z
LAST-MODIFIED:20251203T181451Z
UID:15546-1787047200-1787054400@www.seniorwebmierlo.nl
SUMMARY:ZomerBijeenkomst
DESCRIPTION:De ZomerBijeenkomsten worden tijdens de zomerperiode georganiseerd\, op de derde dinsdag van de maand van 10:00 tot 12:00 uur. \nJe kunt van 10:00 – 12:00 uur individueel werken op je eigen laptop\, Chromebook\, tablet of smartphone en indien nodig hulp vragen. Er is geen presentatie. \nDe entreeprijs is € 5\,- (graag gepast betalen) inclusief een kopje koffie of thee. Je hoeft geen lid van SeniorWeb of van de bibliotheek te zijn om deel te nemen. \nMeer info: swmadmi@gmail.com of bel: 0492-663609
URL:https://www.seniorwebmierlo.nl/event/zomerbijeenkomst-4/
LOCATION:D’n Intheek\, Dorpsstraat 113\, Mierlo
CATEGORIES:ZomerBijeenkomst
ATTACH;FMTTYPE=image/jpeg:https://www.seniorwebmierlo.nl/wp-content/uploads/2022/05/zomer-computer-cafe-header.jpg
END:VEVENT
END:VCALENDAR