BEGIN:VCALENDAR
VERSION:2.0
PRODID:-//Stichting SeniorWeb Mierlo - ECPv6.15.15//NONSGML v1.0//EN
CALSCALE:GREGORIAN
METHOD:PUBLISH
X-WR-CALNAME:Stichting SeniorWeb Mierlo
X-ORIGINAL-URL:https://www.seniorwebmierlo.nl
X-WR-CALDESC:Evenementen voor Stichting SeniorWeb Mierlo
REFRESH-INTERVAL;VALUE=DURATION:PT1H
X-Robots-Tag:noindex
X-PUBLISHED-TTL:PT1H
BEGIN:VTIMEZONE
TZID:Europe/Amsterdam
BEGIN:DAYLIGHT
TZOFFSETFROM:+0100
TZOFFSETTO:+0200
TZNAME:CEST
DTSTART:20240331T010000
END:DAYLIGHT
BEGIN:STANDARD
TZOFFSETFROM:+0200
TZOFFSETTO:+0100
TZNAME:CET
DTSTART:20241027T010000
END:STANDARD
BEGIN:DAYLIGHT
TZOFFSETFROM:+0100
TZOFFSETTO:+0200
TZNAME:CEST
DTSTART:20250330T010000
END:DAYLIGHT
BEGIN:STANDARD
TZOFFSETFROM:+0200
TZOFFSETTO:+0100
TZNAME:CET
DTSTART:20251026T010000
END:STANDARD
BEGIN:DAYLIGHT
TZOFFSETFROM:+0100
TZOFFSETTO:+0200
TZNAME:CEST
DTSTART:20260329T010000
END:DAYLIGHT
BEGIN:STANDARD
TZOFFSETFROM:+0200
TZOFFSETTO:+0100
TZNAME:CET
DTSTART:20261025T010000
END:STANDARD
END:VTIMEZONE
BEGIN:VEVENT
DTSTART;TZID=Europe/Amsterdam:20250410T140000
DTEND;TZID=Europe/Amsterdam:20250410T160000
DTSTAMP:20260420T143057
CREATED:20241206T115804Z
LAST-MODIFIED:20241206T143328Z
UID:15162-1744293600-1744300800@www.seniorwebmierlo.nl
SUMMARY:AppleClub - Derde bijeenkomst
DESCRIPTION:Uitgangspunten AppleClub \nDe versie van het iOS systeem op het apparaat (smartphone of tablet) is 17.0 of hoger. Voor andere update versies gaarne vooraf contact. \nDoor de docent wordt per bijeenkomst uitleg gegeven over een onderwerp en daarna wordt dit zelf met begeleiding op het eigen apparaat uitgevoerd. Voor de eerste bijeenkomst zijn reeds onderwerpen vastgesteld. Zie hiervoor de informatie uit de nieuwsbrief en de agenda van de website. \nIedereen krijgt volop de tijd om te oefenen. Er wordt pas een ander onderwerp behandeld als men klaar is met oefenen. Er is ook volop ruimte voor het stellen van vragen. Deze worden zo veel mogelijk tijdens de bijeenkomst beantwoord of in een volgende bijeenkomst.\nIedereen wordt aangemeld in de Apple Club SWM WhatsApp groep. Hier kan men allerlei meldingen plaatsen met betrekking tot de AppleClub. Dit is het forum voor vragen en antwoorden over de onderwerpen die zijn of worden behandeld. \nAanmelden of informatie krijgen kan door een mail te sturen naar swmadmi@gmail.com of door te bellen naar 0492-663609. \nKosten: zie Tarieven
URL:https://www.seniorwebmierlo.nl/event/appleclub-derde-bijeenkomst/
LOCATION:D’n Intheek\, Dorpsstraat 113\, Mierlo
CATEGORIES:Apple Club
ATTACH;FMTTYPE=image/png:https://www.seniorwebmierlo.nl/wp-content/uploads/2019/10/apple-zes-keer.png
END:VEVENT
BEGIN:VEVENT
DTSTART;TZID=Europe/Amsterdam:20250313T140000
DTEND;TZID=Europe/Amsterdam:20250313T160000
DTSTAMP:20260420T143057
CREATED:20241201T130003Z
LAST-MODIFIED:20241206T143213Z
UID:15153-1741874400-1741881600@www.seniorwebmierlo.nl
SUMMARY:AppleClub - Tweede bijeenkomst
DESCRIPTION:Uitgangspunten AppleClub \nDe versie van het iOS systeem op het apparaat (smartphone of tablet) is 17.0 of hoger. Voor andere update versies gaarne vooraf contact. \nDoor de docent wordt per bijeenkomst uitleg gegeven over een onderwerp en daarna wordt dit zelf met begeleiding op het eigen apparaat uitgevoerd. Voor de eerste bijeenkomst zijn reeds onderwerpen vastgesteld. Zie hiervoor de informatie uit de nieuwsbrief en de agenda van de website. \nIedereen krijgt volop de tijd om te oefenen. Er wordt pas een ander onderwerp behandeld als men klaar is met oefenen. Er is ook volop ruimte voor het stellen van vragen. Deze worden zo veel mogelijk tijdens de bijeenkomst beantwoord of in een volgende bijeenkomst.\nIedereen wordt aangemeld in de Apple Club SWM WhatsApp groep. Hier kan men allerlei meldingen plaatsen met betrekking tot de AppleClub. Dit is het forum voor vragen en antwoorden over de onderwerpen die zijn of worden behandeld. \nAanmelden of informatie krijgen kan door een mail te sturen naar swmadmi@gmail.com of door te bellen naar 0492-663609. \nKosten: zie tarieven
URL:https://www.seniorwebmierlo.nl/event/15153/
LOCATION:D’n Intheek\, Dorpsstraat 113\, Mierlo
CATEGORIES:Apple Club
ATTACH;FMTTYPE=image/png:https://www.seniorwebmierlo.nl/wp-content/uploads/2019/10/apple-zes-keer.png
END:VEVENT
BEGIN:VEVENT
DTSTART;TZID=Europe/Amsterdam:20250213T140000
DTEND;TZID=Europe/Amsterdam:20250213T160000
DTSTAMP:20260420T143057
CREATED:20241206T115313Z
LAST-MODIFIED:20241207T123734Z
UID:15155-1739455200-1739462400@www.seniorwebmierlo.nl
SUMMARY:AppleClub - Eerste bijeenkomst
DESCRIPTION:Uitgangspunten AppleClub \nDe versie van het iOS systeem op het apparaat (smartphone of tablet) is 17.0 of hoger. Voor andere update versies gaarne vooraf contact. \nTijdens de eerste bijeenkomst wordt geïnventariseerd welke onderwerpen op basis van de interesse van de deelnemers aan de orde zullen komen. Hiervan wordt de volgorde van behandeling vastgesteld.\nDoor de docent wordt per bijeenkomst uitleg gegeven over een onderwerp en daarna wordt dit zelf met begeleiding op het eigen apparaat uitgevoerd.\nVoor de eerste bijeenkomst zal de nadruk hoofdzakelijk op de MAIL app \nen  iCloud  komen te liggen. \nIedereen krijgt volop de tijd om te oefenen. Er wordt pas een ander onderwerp behandeld als men klaar is met oefenen. Er is ook volop ruimte voor het stellen van vragen. Deze worden zo veel mogelijk tijdens de bijeenkomst beantwoord of in een volgende bijeenkomst.\nIedereen wordt aangemeld in de Apple Club SWM WhatsApp groep. Hier kan men allerlei meldingen plaatsen met betrekking tot de AppleClub. Dit is het forum voor vragen en antwoorden over de onderwerpen die zijn of worden behandeld. \nAanmelden of informatie krijgen kan door een mail te sturen naar swmadmi@gmail.com of door te bellen naar 0492-663609 of tijdens een bijeenkomst van het ComputerCafé. \nKosten: zie Tarieven
URL:https://www.seniorwebmierlo.nl/event/eerste-bijeenkomst-appleclub/
LOCATION:D’n Intheek\, Dorpsstraat 113\, Mierlo
CATEGORIES:Apple Club
ATTACH;FMTTYPE=image/png:https://www.seniorwebmierlo.nl/wp-content/uploads/2019/10/apple-zes-keer.png
END:VEVENT
END:VCALENDAR